BEGIN:VCALENDAR
VERSION:2.0
PRODID:-//Shady Grove Missionary Baptist Church - ECPv6.15.13.1//NONSGML v1.0//EN
CALSCALE:GREGORIAN
METHOD:PUBLISH
X-WR-CALNAME:Shady Grove Missionary Baptist Church
X-ORIGINAL-URL:https://shadygroveboaz.com
X-WR-CALDESC:Events for Shady Grove Missionary Baptist Church
REFRESH-INTERVAL;VALUE=DURATION:PT1H
X-Robots-Tag:noindex
X-PUBLISHED-TTL:PT1H
BEGIN:VTIMEZONE
TZID:America/Chicago
BEGIN:DAYLIGHT
TZOFFSETFROM:-0600
TZOFFSETTO:-0500
TZNAME:CDT
DTSTART:20260308T080000
END:DAYLIGHT
BEGIN:STANDARD
TZOFFSETFROM:-0500
TZOFFSETTO:-0600
TZNAME:CST
DTSTART:20261101T070000
END:STANDARD
BEGIN:DAYLIGHT
TZOFFSETFROM:-0600
TZOFFSETTO:-0500
TZNAME:CDT
DTSTART:20270314T080000
END:DAYLIGHT
BEGIN:STANDARD
TZOFFSETFROM:-0500
TZOFFSETTO:-0600
TZNAME:CST
DTSTART:20271107T070000
END:STANDARD
BEGIN:DAYLIGHT
TZOFFSETFROM:-0600
TZOFFSETTO:-0500
TZNAME:CDT
DTSTART:20280312T080000
END:DAYLIGHT
BEGIN:STANDARD
TZOFFSETFROM:-0500
TZOFFSETTO:-0600
TZNAME:CST
DTSTART:20281105T070000
END:STANDARD
END:VTIMEZONE
BEGIN:VEVENT
DTSTART;TZID=America/Chicago:20270519T183000
DTEND;TZID=America/Chicago:20270519T200000
DTSTAMP:20260420T153130
CREATED:20240520T211034Z
LAST-MODIFIED:20240520T211034Z
UID:1642-1810751400-1810756800@shadygroveboaz.com
SUMMARY:Wednesday Prayer Meeting
DESCRIPTION:
URL:https://shadygroveboaz.com/event/wednesday-prayer-meeting-2027-05-19/
END:VEVENT
BEGIN:VEVENT
DTSTART;TZID=America/Chicago:20270523T100000
DTEND;TZID=America/Chicago:20270523T110000
DTSTAMP:20260420T153130
CREATED:20240520T210934Z
LAST-MODIFIED:20240520T210934Z
UID:1643-1811066400-1811070000@shadygroveboaz.com
SUMMARY:Sunday School
DESCRIPTION:
URL:https://shadygroveboaz.com/event/sunday-school-2027-05-23/
END:VEVENT
BEGIN:VEVENT
DTSTART;TZID=America/Chicago:20270523T110000
DTEND;TZID=America/Chicago:20270523T123000
DTSTAMP:20260420T153130
CREATED:20240520T211005Z
LAST-MODIFIED:20240520T211005Z
UID:1644-1811070000-1811075400@shadygroveboaz.com
SUMMARY:Sunday Worship Service
DESCRIPTION:
URL:https://shadygroveboaz.com/event/sunday-worship-service-2027-05-23/
END:VEVENT
BEGIN:VEVENT
DTSTART;TZID=America/Chicago:20270526T183000
DTEND;TZID=America/Chicago:20270526T200000
DTSTAMP:20260420T153130
CREATED:20240520T211034Z
LAST-MODIFIED:20240520T211034Z
UID:1645-1811356200-1811361600@shadygroveboaz.com
SUMMARY:Wednesday Prayer Meeting
DESCRIPTION:
URL:https://shadygroveboaz.com/event/wednesday-prayer-meeting-2027-05-26/
END:VEVENT
BEGIN:VEVENT
DTSTART;TZID=America/Chicago:20270530T100000
DTEND;TZID=America/Chicago:20270530T110000
DTSTAMP:20260420T153130
CREATED:20240520T210934Z
LAST-MODIFIED:20240520T210934Z
UID:1646-1811671200-1811674800@shadygroveboaz.com
SUMMARY:Sunday School
DESCRIPTION:
URL:https://shadygroveboaz.com/event/sunday-school-2027-05-30/
END:VEVENT
BEGIN:VEVENT
DTSTART;TZID=America/Chicago:20270530T110000
DTEND;TZID=America/Chicago:20270530T123000
DTSTAMP:20260420T153130
CREATED:20240520T211005Z
LAST-MODIFIED:20240520T211005Z
UID:1647-1811674800-1811680200@shadygroveboaz.com
SUMMARY:Sunday Worship Service
DESCRIPTION:
URL:https://shadygroveboaz.com/event/sunday-worship-service-2027-05-30/
END:VEVENT
BEGIN:VEVENT
DTSTART;TZID=America/Chicago:20270602T183000
DTEND;TZID=America/Chicago:20270602T200000
DTSTAMP:20260420T153130
CREATED:20240520T211034Z
LAST-MODIFIED:20240520T211034Z
UID:1648-1811961000-1811966400@shadygroveboaz.com
SUMMARY:Wednesday Prayer Meeting
DESCRIPTION:
URL:https://shadygroveboaz.com/event/wednesday-prayer-meeting-2027-06-02/
END:VEVENT
BEGIN:VEVENT
DTSTART;TZID=America/Chicago:20270606T100000
DTEND;TZID=America/Chicago:20270606T110000
DTSTAMP:20260420T153130
CREATED:20240520T210934Z
LAST-MODIFIED:20240520T210934Z
UID:1649-1812276000-1812279600@shadygroveboaz.com
SUMMARY:Sunday School
DESCRIPTION:
URL:https://shadygroveboaz.com/event/sunday-school-2027-06-06/
END:VEVENT
BEGIN:VEVENT
DTSTART;TZID=America/Chicago:20270606T110000
DTEND;TZID=America/Chicago:20270606T123000
DTSTAMP:20260420T153130
CREATED:20240520T211005Z
LAST-MODIFIED:20240520T211005Z
UID:1650-1812279600-1812285000@shadygroveboaz.com
SUMMARY:Sunday Worship Service
DESCRIPTION:
URL:https://shadygroveboaz.com/event/sunday-worship-service-2027-06-06/
END:VEVENT
BEGIN:VEVENT
DTSTART;TZID=America/Chicago:20270609T183000
DTEND;TZID=America/Chicago:20270609T200000
DTSTAMP:20260420T153131
CREATED:20240520T211034Z
LAST-MODIFIED:20240520T211034Z
UID:1651-1812565800-1812571200@shadygroveboaz.com
SUMMARY:Wednesday Prayer Meeting
DESCRIPTION:
URL:https://shadygroveboaz.com/event/wednesday-prayer-meeting-2027-06-09/
END:VEVENT
BEGIN:VEVENT
DTSTART;TZID=America/Chicago:20270613T100000
DTEND;TZID=America/Chicago:20270613T110000
DTSTAMP:20260420T153131
CREATED:20240520T210934Z
LAST-MODIFIED:20240520T210934Z
UID:1652-1812880800-1812884400@shadygroveboaz.com
SUMMARY:Sunday School
DESCRIPTION:
URL:https://shadygroveboaz.com/event/sunday-school-2027-06-13/
END:VEVENT
BEGIN:VEVENT
DTSTART;TZID=America/Chicago:20270613T110000
DTEND;TZID=America/Chicago:20270613T123000
DTSTAMP:20260420T153131
CREATED:20240520T211005Z
LAST-MODIFIED:20240520T211005Z
UID:1653-1812884400-1812889800@shadygroveboaz.com
SUMMARY:Sunday Worship Service
DESCRIPTION:
URL:https://shadygroveboaz.com/event/sunday-worship-service-2027-06-13/
END:VEVENT
BEGIN:VEVENT
DTSTART;TZID=America/Chicago:20270616T183000
DTEND;TZID=America/Chicago:20270616T200000
DTSTAMP:20260420T153131
CREATED:20240520T211034Z
LAST-MODIFIED:20240520T211034Z
UID:1654-1813170600-1813176000@shadygroveboaz.com
SUMMARY:Wednesday Prayer Meeting
DESCRIPTION:
URL:https://shadygroveboaz.com/event/wednesday-prayer-meeting-2027-06-16/
END:VEVENT
BEGIN:VEVENT
DTSTART;TZID=America/Chicago:20270620T100000
DTEND;TZID=America/Chicago:20270620T110000
DTSTAMP:20260420T153131
CREATED:20240520T210934Z
LAST-MODIFIED:20240520T210934Z
UID:1655-1813485600-1813489200@shadygroveboaz.com
SUMMARY:Sunday School
DESCRIPTION:
URL:https://shadygroveboaz.com/event/sunday-school-2027-06-20/
END:VEVENT
BEGIN:VEVENT
DTSTART;TZID=America/Chicago:20270620T110000
DTEND;TZID=America/Chicago:20270620T123000
DTSTAMP:20260420T153131
CREATED:20240520T211005Z
LAST-MODIFIED:20240520T211005Z
UID:1656-1813489200-1813494600@shadygroveboaz.com
SUMMARY:Sunday Worship Service
DESCRIPTION:
URL:https://shadygroveboaz.com/event/sunday-worship-service-2027-06-20/
END:VEVENT
BEGIN:VEVENT
DTSTART;TZID=America/Chicago:20270623T183000
DTEND;TZID=America/Chicago:20270623T200000
DTSTAMP:20260420T153131
CREATED:20240520T211034Z
LAST-MODIFIED:20240520T211034Z
UID:1657-1813775400-1813780800@shadygroveboaz.com
SUMMARY:Wednesday Prayer Meeting
DESCRIPTION:
URL:https://shadygroveboaz.com/event/wednesday-prayer-meeting-2027-06-23/
END:VEVENT
BEGIN:VEVENT
DTSTART;TZID=America/Chicago:20270627T100000
DTEND;TZID=America/Chicago:20270627T110000
DTSTAMP:20260420T153131
CREATED:20240520T210934Z
LAST-MODIFIED:20240520T210934Z
UID:1658-1814090400-1814094000@shadygroveboaz.com
SUMMARY:Sunday School
DESCRIPTION:
URL:https://shadygroveboaz.com/event/sunday-school-2027-06-27/
END:VEVENT
BEGIN:VEVENT
DTSTART;TZID=America/Chicago:20270627T110000
DTEND;TZID=America/Chicago:20270627T123000
DTSTAMP:20260420T153131
CREATED:20240520T211005Z
LAST-MODIFIED:20240520T211005Z
UID:1659-1814094000-1814099400@shadygroveboaz.com
SUMMARY:Sunday Worship Service
DESCRIPTION:
URL:https://shadygroveboaz.com/event/sunday-worship-service-2027-06-27/
END:VEVENT
BEGIN:VEVENT
DTSTART;TZID=America/Chicago:20270630T183000
DTEND;TZID=America/Chicago:20270630T200000
DTSTAMP:20260420T153131
CREATED:20240520T211034Z
LAST-MODIFIED:20240520T211034Z
UID:1660-1814380200-1814385600@shadygroveboaz.com
SUMMARY:Wednesday Prayer Meeting
DESCRIPTION:
URL:https://shadygroveboaz.com/event/wednesday-prayer-meeting-2027-06-30/
END:VEVENT
BEGIN:VEVENT
DTSTART;TZID=America/Chicago:20270704T100000
DTEND;TZID=America/Chicago:20270704T110000
DTSTAMP:20260420T153131
CREATED:20240520T210934Z
LAST-MODIFIED:20240520T210934Z
UID:1661-1814695200-1814698800@shadygroveboaz.com
SUMMARY:Sunday School
DESCRIPTION:
URL:https://shadygroveboaz.com/event/sunday-school-2027-07-04/
END:VEVENT
BEGIN:VEVENT
DTSTART;TZID=America/Chicago:20270704T110000
DTEND;TZID=America/Chicago:20270704T123000
DTSTAMP:20260420T153131
CREATED:20240520T211005Z
LAST-MODIFIED:20240520T211005Z
UID:1662-1814698800-1814704200@shadygroveboaz.com
SUMMARY:Sunday Worship Service
DESCRIPTION:
URL:https://shadygroveboaz.com/event/sunday-worship-service-2027-07-04/
END:VEVENT
BEGIN:VEVENT
DTSTART;TZID=America/Chicago:20270707T183000
DTEND;TZID=America/Chicago:20270707T200000
DTSTAMP:20260420T153131
CREATED:20240520T211034Z
LAST-MODIFIED:20240520T211034Z
UID:1663-1814985000-1814990400@shadygroveboaz.com
SUMMARY:Wednesday Prayer Meeting
DESCRIPTION:
URL:https://shadygroveboaz.com/event/wednesday-prayer-meeting-2027-07-07/
END:VEVENT
BEGIN:VEVENT
DTSTART;TZID=America/Chicago:20270711T100000
DTEND;TZID=America/Chicago:20270711T110000
DTSTAMP:20260420T153131
CREATED:20240520T210934Z
LAST-MODIFIED:20240520T210934Z
UID:1664-1815300000-1815303600@shadygroveboaz.com
SUMMARY:Sunday School
DESCRIPTION:
URL:https://shadygroveboaz.com/event/sunday-school-2027-07-11/
END:VEVENT
BEGIN:VEVENT
DTSTART;TZID=America/Chicago:20270711T110000
DTEND;TZID=America/Chicago:20270711T123000
DTSTAMP:20260420T153131
CREATED:20240520T211005Z
LAST-MODIFIED:20240520T211005Z
UID:1665-1815303600-1815309000@shadygroveboaz.com
SUMMARY:Sunday Worship Service
DESCRIPTION:
URL:https://shadygroveboaz.com/event/sunday-worship-service-2027-07-11/
END:VEVENT
BEGIN:VEVENT
DTSTART;TZID=America/Chicago:20270714T183000
DTEND;TZID=America/Chicago:20270714T200000
DTSTAMP:20260420T153131
CREATED:20240520T211034Z
LAST-MODIFIED:20240520T211034Z
UID:1666-1815589800-1815595200@shadygroveboaz.com
SUMMARY:Wednesday Prayer Meeting
DESCRIPTION:
URL:https://shadygroveboaz.com/event/wednesday-prayer-meeting-2027-07-14/
END:VEVENT
BEGIN:VEVENT
DTSTART;TZID=America/Chicago:20270718T100000
DTEND;TZID=America/Chicago:20270718T110000
DTSTAMP:20260420T153131
CREATED:20240520T210934Z
LAST-MODIFIED:20240520T210934Z
UID:1667-1815904800-1815908400@shadygroveboaz.com
SUMMARY:Sunday School
DESCRIPTION:
URL:https://shadygroveboaz.com/event/sunday-school-2027-07-18/
END:VEVENT
BEGIN:VEVENT
DTSTART;TZID=America/Chicago:20270718T110000
DTEND;TZID=America/Chicago:20270718T123000
DTSTAMP:20260420T153131
CREATED:20240520T211005Z
LAST-MODIFIED:20240520T211005Z
UID:1668-1815908400-1815913800@shadygroveboaz.com
SUMMARY:Sunday Worship Service
DESCRIPTION:
URL:https://shadygroveboaz.com/event/sunday-worship-service-2027-07-18/
END:VEVENT
BEGIN:VEVENT
DTSTART;TZID=America/Chicago:20270721T183000
DTEND;TZID=America/Chicago:20270721T200000
DTSTAMP:20260420T153131
CREATED:20240520T211034Z
LAST-MODIFIED:20240520T211034Z
UID:1669-1816194600-1816200000@shadygroveboaz.com
SUMMARY:Wednesday Prayer Meeting
DESCRIPTION:
URL:https://shadygroveboaz.com/event/wednesday-prayer-meeting-2027-07-21/
END:VEVENT
BEGIN:VEVENT
DTSTART;TZID=America/Chicago:20270725T100000
DTEND;TZID=America/Chicago:20270725T110000
DTSTAMP:20260420T153131
CREATED:20240520T210934Z
LAST-MODIFIED:20240520T210934Z
UID:1670-1816509600-1816513200@shadygroveboaz.com
SUMMARY:Sunday School
DESCRIPTION:
URL:https://shadygroveboaz.com/event/sunday-school-2027-07-25/
END:VEVENT
BEGIN:VEVENT
DTSTART;TZID=America/Chicago:20270725T110000
DTEND;TZID=America/Chicago:20270725T123000
DTSTAMP:20260420T153131
CREATED:20240520T211005Z
LAST-MODIFIED:20240520T211005Z
UID:1671-1816513200-1816518600@shadygroveboaz.com
SUMMARY:Sunday Worship Service
DESCRIPTION:
URL:https://shadygroveboaz.com/event/sunday-worship-service-2027-07-25/
END:VEVENT
END:VCALENDAR